BEGIN:VCALENDAR
VERSION:2.0
PRODID:-//Washoe Valley Alliance - ECPv6.15.20//NONSGML v1.0//EN
CALSCALE:GREGORIAN
METHOD:PUBLISH
X-WR-CALNAME:Washoe Valley Alliance
X-ORIGINAL-URL:https://www.washoevalleyalliance.org
X-WR-CALDESC:Events for Washoe Valley Alliance
REFRESH-INTERVAL;VALUE=DURATION:PT1H
X-Robots-Tag:noindex
X-PUBLISHED-TTL:PT1H
BEGIN:VTIMEZONE
TZID:UTC
BEGIN:STANDARD
TZOFFSETFROM:+0000
TZOFFSETTO:+0000
TZNAME:UTC
DTSTART:20160101T000000
END:STANDARD
END:VTIMEZONE
BEGIN:VEVENT
DTSTART;TZID=UTC:20170610T083000
DTEND;TZID=UTC:20170610T213000
DTSTAMP:20260420T184005
CREATED:20240221T222646Z
LAST-MODIFIED:20240221T222646Z
UID:5842-1497083400-1497130200@www.washoevalleyalliance.org
SUMMARY:Spring Clean-up
DESCRIPTION: Saturday\, June 10 at 8:30 AM \nWashoe Valley Alliance in cooperation with Keep Truckee Meadows Beautiful has scheduled a spring clean-up of Eastlake Blvd from old 395 to the Truckee Meadows Protection District Station 16 alongside Little Washoe Lake (a distance of 1 mile) on Saturday\, June 10 at 8:30 AM.  We will meet at the dirt parking lot at the corner of 395 and Eastlake Blvd.  We will provide safety vests\, pickers\, trash bags and latex gloves.  You might wish to bring heavier gloves.  Please allow about 1 hour. \nIf you wish to participate\, call Karen Critor at 775 772-7715 by Wednesday\, June 7 to insure that we have enough equipment.
URL:https://www.washoevalleyalliance.org/event/spring-clean-up/
CATEGORIES:Featured
END:VEVENT
END:VCALENDAR