BEGIN:VCALENDAR
VERSION:2.0
PRODID:-//Washoe Valley Alliance - ECPv6.15.20//NONSGML v1.0//EN
CALSCALE:GREGORIAN
METHOD:PUBLISH
X-WR-CALNAME:Washoe Valley Alliance
X-ORIGINAL-URL:https://www.washoevalleyalliance.org
X-WR-CALDESC:Events for Washoe Valley Alliance
REFRESH-INTERVAL;VALUE=DURATION:PT1H
X-Robots-Tag:noindex
X-PUBLISHED-TTL:PT1H
BEGIN:VTIMEZONE
TZID:UTC
BEGIN:STANDARD
TZOFFSETFROM:+0000
TZOFFSETTO:+0000
TZNAME:UTC
DTSTART:20150101T000000
END:STANDARD
END:VTIMEZONE
BEGIN:VEVENT
DTSTART;TZID=UTC:20160218T190000
DTEND;TZID=UTC:20160218T200000
DTSTAMP:20260425T105322
CREATED:20240221T223324Z
LAST-MODIFIED:20240221T223324Z
UID:5850-1455822000-1455825600@www.washoevalleyalliance.org
SUMMARY:Neighborhood Watch Course
DESCRIPTION:Neighborhood Watch\nLearn how neighbors can help each other protect our entire neighborhood. \n\n\nDeputy Teresa Aquilar \n\n\nThursday\, February 18\, 2016\n7:00 p.m. \n\n\nNational Division of Forestry Building \n\n\n885 Eastlake Blvd. \n\n\nHosted by: \n\n\nWashoe Valley Alliance\nwashoevalleyalliance.org
URL:https://www.washoevalleyalliance.org/event/neighborhood-watch-course/
CATEGORIES:Featured
ATTACH;FMTTYPE=image/png:https://www.washoevalleyalliance.org/wp-content/uploads/2024/02/Neighborhood_Watch.png
END:VEVENT
END:VCALENDAR