BEGIN:VCALENDAR
VERSION:2.0
PRODID:-//Washoe Valley Alliance - ECPv6.15.20//NONSGML v1.0//EN
CALSCALE:GREGORIAN
METHOD:PUBLISH
X-ORIGINAL-URL:https://www.washoevalleyalliance.org
X-WR-CALDESC:Events for Washoe Valley Alliance
REFRESH-INTERVAL;VALUE=DURATION:PT1H
X-Robots-Tag:noindex
X-PUBLISHED-TTL:PT1H
BEGIN:VTIMEZONE
TZID:UTC
BEGIN:STANDARD
TZOFFSETFROM:+0000
TZOFFSETTO:+0000
TZNAME:UTC
DTSTART:20160101T000000
END:STANDARD
END:VTIMEZONE
BEGIN:VEVENT
DTSTART;TZID=UTC:20171007T090000
DTEND;TZID=UTC:20171007T120000
DTSTAMP:20260420T133906
CREATED:20240221T222314Z
LAST-MODIFIED:20240221T222314Z
UID:5836-1507366800-1507377600@www.washoevalleyalliance.org
SUMMARY:National Public Lands Day
DESCRIPTION:National Public Lands Day Saturday\, October 7\, 2017 \n Cemetery Clean-up \n           National Public Lands Day \n             Saturday October 7\, 2017 \n              Washoe Lake State Park \n               Activity 9am-12pm
URL:https://www.washoevalleyalliance.org/event/national-public-lands-day/
CATEGORIES:Featured
END:VEVENT
END:VCALENDAR