BEGIN:VCALENDAR
VERSION:2.0
PRODID:-//Washoe Valley Alliance - ECPv6.15.20//NONSGML v1.0//EN
CALSCALE:GREGORIAN
METHOD:PUBLISH
X-ORIGINAL-URL:https://www.washoevalleyalliance.org
X-WR-CALDESC:Events for Washoe Valley Alliance
REFRESH-INTERVAL;VALUE=DURATION:PT1H
X-Robots-Tag:noindex
X-PUBLISHED-TTL:PT1H
BEGIN:VTIMEZONE
TZID:UTC
BEGIN:STANDARD
TZOFFSETFROM:+0000
TZOFFSETTO:+0000
TZNAME:UTC
DTSTART:20160101T000000
END:STANDARD
END:VTIMEZONE
BEGIN:VEVENT
DTSTART;TZID=UTC:20170520T093000
DTEND;TZID=UTC:20170520T120000
DTSTAMP:20260420T220407
CREATED:20240221T222809Z
LAST-MODIFIED:20240221T222809Z
UID:5844-1495272600-1495281600@www.washoevalleyalliance.org
SUMMARY:Spring Clean-up
DESCRIPTION:May 20 Spring Clean-up (with a link to this information: Washoe Valley Alliance in cooperation with Keep Truckee Meadows Beautiful has scheduled a Spring clean-up of Eastlake Blvd from old 395 to the Truckee Meadows Protection District Station 16 alongside Little Washoe Lake (a distance of 1 mile) on Saturday\, May 20 at 9:30 AM. We will meet at the dirt parking lot at the corner of 395 and Eastlake Blvd. If you wish to participate\, please call Karen Critor at 772-7715 by Wed. May 17 to insure that we have enough equipment. We will provide safety vests\, pickers\, trash bags and latex gloves. You might wish to bring heavier gloves.
URL:https://www.washoevalleyalliance.org/event/spring-clean-up-2/
CATEGORIES:Featured
END:VEVENT
END:VCALENDAR