BEGIN:VCALENDAR
VERSION:2.0
PRODID:-//Washoe Valley Alliance - ECPv6.15.20//NONSGML v1.0//EN
CALSCALE:GREGORIAN
METHOD:PUBLISH
X-WR-CALNAME:Washoe Valley Alliance
X-ORIGINAL-URL:https://www.washoevalleyalliance.org
X-WR-CALDESC:Events for Washoe Valley Alliance
REFRESH-INTERVAL;VALUE=DURATION:PT1H
X-Robots-Tag:noindex
X-PUBLISHED-TTL:PT1H
BEGIN:VTIMEZONE
TZID:UTC
BEGIN:STANDARD
TZOFFSETFROM:+0000
TZOFFSETTO:+0000
TZNAME:UTC
DTSTART:20140101T000000
END:STANDARD
END:VTIMEZONE
BEGIN:VEVENT
DTSTART;TZID=UTC:20150926T090000
DTEND;TZID=UTC:20150926T120000
DTSTAMP:20260425T193447
CREATED:20240221T225535Z
LAST-MODIFIED:20240221T225712Z
UID:5864-1443258000-1443268800@www.washoevalleyalliance.org
SUMMARY:National Public Lands Day
DESCRIPTION:Join us Saturday September 26th\, 9am-12pm at Washoe Lake State Park. Volunteers will collect seeds from native plants in Washoe Lake State Park. The seeds collected from this event will go into restoration projects for other public land sites. \n\n\nWhen heading North or South on I580/395 Take exit 46\nFor more information please contact the BLM Office at 775-885-6000
URL:https://www.washoevalleyalliance.org/event/national-public-lands-day-2/
CATEGORIES:Featured
ATTACH;FMTTYPE=image/png:https://www.washoevalleyalliance.org/wp-content/uploads/2024/02/NPLD.png
END:VEVENT
END:VCALENDAR